BEGIN:VCALENDAR
VERSION:2.0
PRODID:-//Saba Tourism - ECPv6.15.17//NONSGML v1.0//EN
CALSCALE:GREGORIAN
METHOD:PUBLISH
X-ORIGINAL-URL:https://www.sabatourism.com
X-WR-CALDESC:Events for Saba Tourism
REFRESH-INTERVAL;VALUE=DURATION:PT1H
X-Robots-Tag:noindex
X-PUBLISHED-TTL:PT1H
BEGIN:VTIMEZONE
TZID:America/New_York
BEGIN:DAYLIGHT
TZOFFSETFROM:-0500
TZOFFSETTO:-0400
TZNAME:EDT
DTSTART:20250309T070000
END:DAYLIGHT
BEGIN:STANDARD
TZOFFSETFROM:-0400
TZOFFSETTO:-0500
TZNAME:EST
DTSTART:20251102T060000
END:STANDARD
BEGIN:DAYLIGHT
TZOFFSETFROM:-0500
TZOFFSETTO:-0400
TZNAME:EDT
DTSTART:20260308T070000
END:DAYLIGHT
BEGIN:STANDARD
TZOFFSETFROM:-0400
TZOFFSETTO:-0500
TZNAME:EST
DTSTART:20261101T060000
END:STANDARD
BEGIN:DAYLIGHT
TZOFFSETFROM:-0500
TZOFFSETTO:-0400
TZNAME:EDT
DTSTART:20270314T070000
END:DAYLIGHT
BEGIN:STANDARD
TZOFFSETFROM:-0400
TZOFFSETTO:-0500
TZNAME:EST
DTSTART:20271107T060000
END:STANDARD
END:VTIMEZONE
BEGIN:VEVENT
DTSTART;TZID=America/New_York:20260531T190000
DTEND;TZID=America/New_York:20260531T200000
DTSTAMP:20260420T170617
CREATED:20260420T195919Z
LAST-MODIFIED:20260420T195919Z
UID:10000277-1780254000-1780257600@www.sabatourism.com
SUMMARY:Full Moon Yoga with Raul
DESCRIPTION:End your Wellness Month journey with an intentional evening of yoga under the full moon. Harness the lunar energy to ground your spirit and carry this newfound calm into the days ahead. \nLocation: Harry L. Johnson Museum
URL:https://www.sabatourism.com/event/full-moon-yoga-with-raul/
CATEGORIES:May,Wellness
ATTACH;FMTTYPE=image/png:https://www.sabatourism.com/wp-content/uploads/2026/04/8.png
END:VEVENT
END:VCALENDAR